Workbook
Name CMP_policies: #REF!
Name fuel_type: 'Emissions Factors'!$D$4:$D$7
Name MetroEF: 'Emissions Factors'!$E$39:$E$42
Name speed_emission_rel: 'Speed Emissions Relation'!$C$7:$I$25
Name veh_category: 'Emissions Factors'!$K$7:$K$8
Name yes_no: 'Emissions Factors'!$K$3:$K$4
Name yesno: #REF!

Sheet Title
A5: Climate Change Impact Assessment Tool of Comprehensive Mobility Plan (CMP) of Indian Cities
B7: Prepared by: Emergent Venture India | L7: Submitted to: Institute of Urban Transport
E19: A Shakti Sustainable Energy Foundation Supported Study

Sheet How to use the tool
E2: Carbon Footprint of Comprehensive Mobility Plans (CMP)
C4: This calculation tool has been made for CMP specific requirements. This sheet explains the how to use the tool and information contained in each work sheet.
B7: 1 | C7: Results
C8: This sheet provides results of various scenarios taken for assessing CMP's impact on GHG emissions. Users are adviced not to insert or modify any data in this sheet.
B10: 2 | C10: CMP Data Input
C11: This sheet provides data input to the model for current year, Business as Usual in 2030 Scenario, CMP Implemented Scenario. The source of data is city's CMP. Input cells are marked in GREEN. Data parameters are required for number of trips in peak hours as per mode, average trip lengths (Private Vehicles, Public Vehicle and Integrated Public Transport), average occupancy, ratios of peak hour to total number of trips, construction related data)
B14: 3 | C14: BAU (2030)
C15: This sheet provides the GHG emissions in current baseline year and Business As Usual 2030 Scenario. Users are adviced not to insert or modify any data in this sheet.
B17: 4 | C17: CMP As Is Scenario (2030)
C18: This sheet provides the GHG emissions in case of CMP implemented scenario by taking CMP assumptions as it is. CMP ignores the impact of induced demand while determining the network speed. Users are adviced not to insert or modify any data in this sheet.
B20: 5 | C20: Induced Demand
C21: This sheet provides a simple method to estimate the impact of induced demand on the network speed by V/C ratios. Details of calculations are provided in the report.
B23: 6 | C23: CMP Most Likely Scenario (2030)
C24: This sheet provides the GHG emissions in CMP most likely scenario (2030) while taking into care the impact of induced demand on the network speed. Users are adviced not to insert or modify any data in this sheet.
B26: 7 | C26: Additional Measures Assumption
C27: This sheet contains impact of additional measures and its impact on eliminating demand, reducing trip lengths, use of low carbon fuels such as CNG, impact of increase usage of electric vehicles, eco-driving, additional modal shift to public vehicles from private vehicles and integrated public vehicles.
B29: 8 | C29: CMP Additional Measures Impact (2030)
C30: This sheet provides the GHG emissions in CMP most likely scenario (2030) while taking into care the impact of induced demand on the network speed. Users are adviced not to insert or modify any data in this sheet.
B32: 9 | C32: Construction Emissions
C33: This sheet provides GHG emissions due to construction related activities. Users are adviced not to insert or modify any data in this sheet.
B34: 10 | C34: Emissions Factors
C35: This sheet contains emissions factors for various fuel options like petrol, diesel, CNG. It also have passenger per km emissions, metro per passenger per km emissions, grid emissions factor.
B37: 11 | C37: Load Factor Improvement
C38: This sheet estimates the GHG reduction impact due to load factor improvement. Users are adviced not to insert or modify any data in this sheet.

Sheet Results
D2: Results of Jaipur CMP Assessment | E2: Emissions in Tonnes of CO2 | F2: Emission Reduction in 2031 over BAU Scenario (%)
D3: Emissions in Baseline Scenario (year 2009) | E3: ='BAU (2030)'!J25 -> 272119.73
D4: Emissions in Business As Usual Scenario (year 2030) | E4: ='BAU (2030)'!T25 -> 1484434.1
D5: Emissions in CMP As Is Scenario (Ignoring Induction & Rebound Effect, including construction emissions) | E5: ='CMP_As Is Scenario (2030)'!J26+'Construction Emissions'!M14 -> 1128143.1 | F5: =($E$4-E5)/$E$4 -> 0.24001812
D6: Emissions in CMP Modified Assumption Scenario (including induction and rebound effect and construction emissions) | E6: ='CMP_Most Likely (2030)'!J26+'Construction Emissions'!M14 -> 1365553.2 | F6: =($E$4-E6)/$E$4 -> 0.080085013
D7: CMP Additional Measures - Demand elimination & Modal Shift Measures-Implementation based on Assumption Sheet (including construction and induction impact) | E7: =('CMP Add Measures(2030)'!M26) -> 1093203.6 | F7: =($E$4-E7)/$E$4 -> 0.26355537
D8: CMP Additional Measures - Additional Load Factor enhancement measures | E8: =E7*(1-'Additional Measures'!I8) -> 1070945.5 | F8: =($E$4-E8)/$E$4 -> 0.27854966
D9: CMP Additional Measures - Additional green measures (Use of Low carbon fuels, eco-driving & 20% renewable power for Metro) | E9: =E8*(1-'Additional Measures'!I9) -> 921130.92 | F9: =($E$4-E9)/$E$4 -> 0.37947337
D10: CMP AM - Additional green measures (10% electric Vehicles penetration) | E10: =E9*(1-'Additional Measures'!I10) -> 913969.18 | F10: =($E$4-E10)/$E$4 -> 0.38429793
D11: Overall CMP Additional Measures Improvement over CMP on comparative boundaries | E11: =E10 -> 913969.18 | F11: =F10 -> 0.38429793

Sheet BAU Assumptions
C4: Scenario for BAU and 2030 Grid Emissions Factors
C5: Current Grid Emissions Factor | D5: CEA Source | E5: 0.85
C6: Assumptions / Scenarios for 2030 GEF
C7: % reduction in GEF for natural technology improvement and increase renewable/nuclear share (Scenario 1) | D7: 0.1 | E7: =E5*((1-D7)) -> 0.765
C8: % reduction in GHG PER YEAR due to improvement in vehicle technology till 2030 | D8: 0.01
C12: Activity | D12: Design Life
C13: BRTS | D13: 20
C14: MRTS | D14: 20
C15: NMT - Bicycle Lanes | D15: 20
C16: Ring Road | D16: 20
C17: NMT Facilities - Walkable Footpath | D17: 20
C18: Road Widening | D18: 20
C19: Mono Rail Transit | D19: 20
C20: 4-Lane Roads | D20: 20
C21: Single Lane | D21: 20
C25: Assumptions and Emissions Factors (Source: TEEMP Defaults)
C26: 1 km of infrastructure | D26: Description | E26: Tonnes of CO2 | F26: Source
C27: BRTS | D27: Considering only the quantity of steel, cement and asphalt. | E27: 1900 | F27: Assuming material quantity - Cement -737.8 tons/km, Asphalt - 403.5 tons/km and Steel - 143.2 tons/km. A multiplier of 1.75 has been proposed for actual construction works based on Kwangho Park, et. al. (2003),. Estimates from Mexico BRTS ( Lee at al.) and Transmilenio ( monitoring report) have indicated 3475 and 1390 tons .
C28: Bikeways | D28: Considering only the quantity of steel, cement and asphalt. | E28: 20 | F28: Assuming material quantity - Cement -15.5 tons/km, Asphalt - 40 tons/km and Steel - 1 tons/km for constructing 1km of 2.5 m wide bikeway
C29: MRTS | D29: 2 lines for 80% elevated and 20% underground | E29: 15600 | F29: Bangalore metro calculations using quantity of materials used - steel and cement. Research from japan as summarized in TEEMP model indicates a range between 7119 to 19487 tons of CO2
C30: Railways | D30: Considering only the quantity of steel and concrete for single track | E30: 875 | F30: Assuming a track requires 570 tons of concrete and 117 tons of steel, 350 tons of CO2 is generated during material production. Scotland Transport depatment recommends 500 tons of CO2 per track based on material production.A multiplier of 1.75 has been proposed for actual construction works based on Kwangho Park, et. al. (2003) for Road works
C31: Roads (4 Lane) | D31: Considering only the quantity of steel, cement and asphalt for a four lane road | E31: 2100 | F31: An analysis based on the quantity of construction materials used – cement, steel and bitumen indicates that the approximate emissions of a two lane to four lane improved highway is approximate 1100 tons/km. When all the quantities are considered including the emissions generated by machinery, the emissions range from 2100 to 2400 tons/km for high-speed roads (four-lanes) based on traffic, topography and type of improvements suggested.
C32: Roads (conversion of 2 to 4 lane) | D32: Considering only the quantity of steel, cement and asphalt for a four lane road | E32: 1100 | F32: An analysis based on the quantity of construction materials used – cement, steel and bitumen indicates that the approximate emissions of a two lane to four lane improved highway is approximate 1100 tons/km.
C58: Vehicles Fuels Split | D58: Fuel Type | E58: % of Vehicle Population in year 2010 | F58: % of Vehicle Population in year 2030 in BAU | G58: % of Vehicle Population in year 2030 in CMP
C59: 2W 2s / 4s | D59: petrol | E59: 1 | F59: 1 | G59: 1
C60: 3W 2s/4s | D60: Petrol | E60: 1 | F60: 1 | G60: 1
C61: 3W 2s/4s | D61: CNG | E61: 0 | F61: 0 | G61: 0
C62: 3W 2s/4s | D62: LPG | E62: 0 | F62: 0 | G62: 0
C63: 3W passenger tempo | D63: Diesel | E63: 0 | F63: 0 | G63: 0
C64: Car | D64: petrol | E64: 1 | F64: 1 | G64: 1
C65: Car | D65: diesel | E65: 0 | F65: 0 | G65: 0
C66: Car | D66: CNG | E66: 0 | F66: 0 | G66: 0
C67: Taxi | D67: petrol | E67: 0 | F67: 0 | G67: 0
C68: Taxi | D68: diesel | E68: 1 | F68: 1 | G68: 1
C69: Taxi | D69: CNG | E69: 0 | F69: 0 | G69: 0
C70: Taxi | D70: LPG | E70: 0 | F70: 0 | G70: 0
... C75: BRTS | D75: CNG | E75: 0 | F75: 0 | G75: 0
C76: MRTS | D76: Electricity | F76: 0 | G76: 1
C77: Monorail | D77: Electricity | F77: 0 | G77: 1

Sheet CMP Data Input
B4: CMP Data Modal Shift, Trip Lengths and Network Speed | L4: Analysis of Peak Hour Trips as % of Total Trips
M5: Peak hour trips | N5: Total trips
B6: Parameter | C6: Number of Trips | I6: CMP Observed Average Occupancy of Vehicles | L6: Screenline | M6: 1906 | N6: 22948
B7: Year from base | C7: 0 | D7: 22 | E7: 22 | F7: % of PT in CMP | G7: PT Trips Breakup | M7: 762 | N7: 9955
B8: Trip Information | C8: 2009 Baseline | D8: 2031 - BAU | E8: 2031 CMP | I8: TW | J8: 1.6 | M8: 2847 | N8: 44780
B9: TW | C9: 82300 | D9: 155220 | E9: 96904 | G9: =E9 -> 96904 | I9: Car | J9: 2.6 | M9: 1034 | N9: 10432
B10: Car | C10: 29377 | D10: 230280 | E10: 143763 | G10: =E10 -> 143763 | I10: Auto | J10: 2.6 | M10: 763 | N10: 9955
B11: AR | C11: 19342 | D11: 59340 | E11: 35841 | G11: =E11 -> 35841 | I11: Taxi | J11: 2.6 | M11: 605 | N11: 9173
B12: Taxi | C12: 27977 | D12: 87460 | E12: 52826 | G12: =E12 -> 52826 | I12: Passenger Tempo | M12: 1138 | N12: 15376
B13: Total - PT | C13: 70781 | D13: 101040 | E13: 303999 | I13: Buses | J13: 40 | M13: 1842 | N13: 28824
B14: % Public Transport | C14: =C13/(SUM(C9:C13))% -> 30.804215 | D14: =D13/(SUM(D9:D13))% -> 15.953516 | E14: =E13/(SUM(E9:E13))% -> 47.999867 | I14: Mini Buses | M14: 3002 | N14: 43845
B15: PT - Bus % | F15: 0.33333333 | G15: =$E$13*F15 -> 101333 | I15: BRTS | J15: 45 | M15: 1257 | N15: 18994
B16: PT - Trips % Additonal Buses | F16: 0.16666667 | G16: =$E$13*F16 -> 50666.5 | L16: Midblock | M16: 5828 | N16: 105426
B17: Commuter Rail | F17: 0.0625 | G17: =$E$13*F17 -> 18999.938 | M17: 4852 | N17: 81661
B18: PT - Trips % BRTS | F18: 0.10416667 | G18: =$E$13*F18 -> 31666.562 | M18: 2423 | N18: 36452
B19: PT - Trips % MRTS | F19: 0.33333333 | G19: =$E$13*F19 -> 101333 | M19: 2730 | N19: 37217
B20: Total | C20: =SUM(C9:C13) -> 229777 | D20: =SUM(D8:D18) -> 633355.95 | E20: =SUM(E8:E18) -> 633381 | G20: =SUM(G9:G19) -> 633333 | M20: 2855 | N20: 49594
B21: Average PV Trip Length | C21: 6 | D21: 7 | E21: 6 | M21: 1379 | N21: 16094
B22: Average IPT Trip Length | C22: =(C21+C23)/2 -> 7 | D22: =(D21+D23)/2 -> 8.5 | E22: =(E21+E23)/2 -> 9.5 | M22: 4882 | N22: 82113
B23: Average PT Trip Length | C23: 8 | D23: 10 | E23: 13 | M23: 2554 | N23: 42397
B24: Average Network Speed | C24: 28 | D24: 14 | E24: 32 | M24: 2402 | N24: 38327
M25: 4545 | N25: 80848
B26: Peak Hour to Total Trip Ratio | C26: ='CMP Data Input'!N37 -> 0.066469286 | L26: Outer Cordon | M26: 757 | N26: 8555
M27: 1625 | N27: 21075
B28: CMP Policies - Construction Related Data | M28: 1225 | N28: 21457
B29: Policy measure | C29: Major Impact | D29: Unit | E29: 2016 | F29: 2021 | G29: 2031 | H29: Major Construction Impact | M29: 3783 | N29: 60510
B30: Bus Fleet Augumentation | C30: Modal Shift | D30: No | E30: 450 | F30: 1000 | G30: 1000 | H30: No | M30: 1437 | N30: 23677
B31: BRTS | C31: Modal Shift | D31: KM | E31: 93 | F31: 65 | G31: 7 | H31: Yes | M31: 1540 | N31: 25352
B32: MRTS | C32: Modal Shift | D32: KM | E32: 29 | F32: 15 | G32: 16 | H32: Yes | M32: 3551 | N32: 61613
B33: NMT - Separated Grade Facility | C33: Modal Shift | D33: No | E33: 5 | F33: 6 | H33: No | M33: 3286 | N33: 55105
B34: NMT - Bicycle Lanes | C34: Modal Shift | D34: KM | E34: 0 | F34: 80 | G34: 80 | H34: Yes | M34: 1480 | N34: 17506
B35: Fright Facilities / Truck Terminals | C35: Network Speed | D35: No | E35: 1 | F35: 2 | G35: 1 | H35: No | M35: 11207 | N35: 116735
B36: Junction Improvements / Traffic Management | C36: Network Speed | D36: No | E36: 10 | H36: No | L36: Total | M36: 79497 | N36: 1195996
B37: Signal Coordination and Optimazation | C37: Network Speed | D37: No | E37: 10 | H37: No | L37: Peak hour trips to total trips ratio | N37: =M36/N36 -> 0.066469286
B38: Traffic Management / Pavements Marking and Signage | C38: Network Speed | D38: No | E38: 13 | H38: No
B39: Bus Shelter and Bus Bays | C39: Modal Shift | D39: No | E39: 60 | F39: 60 | G39: 60 | H39: No
B40: Ring Road | C40: Network Speed | D40: KM | E40: 50 | F40: 50 | G40: 44 | H40: Yes
B41: NMT Facilities - Walkable Footpath | C41: Modal Shift | D41: KM | E41: 200 | H41: Yes
B42: Road Widening | C42: Network Speed | D42: KM | E42: 100 | F42: 100 | G42: 30 | H42: Yes
B43: Public Transport Facilities - Bus Terminals | C43: Modal Shift | D43: No | E43: 2 | F43: 2 | G43: 1 | H43: No
...

Sheet C_VC Data
B4: Volume and Capacity Results of Major Road Network of City
B5: S. No | C5: Name of the road | D5: 2031 Do Nothing V/C1 average | E5: 2031 Mobility Plan V/C2 average
B6: 1 | C6: Agra Road | D6: 0.88 | E6: 0.46
B7: 2 | C7: Tonk Road | D7: 0.99 | E7: 0.5
B8: 3 | C8: Ajmer Road | D8: 0.73 | E8: 0.33
B9: 4 | C9: M I Road | D9: 1.05 | E9: 0.75
B10: 5 | C10: Sikar Road | D10: 0.77 | E10: 0.55
B11: 6
B12: 7
B13: 8
B14: 9
B15: 10
C16: Grand Average | D16: =AVERAGE(D6:D15) -> 0.884 | E16: =AVERAGE(E6:E15) -> 0.518
C18: V/ C1 | D18: =D16 -> 0.884 | F18: V/C2 | G18: =E16 -> 0.518
B20: V: | C20: Traffic volume in 2031 | F20: V: | G20: Traffic volume in 2031
B21: C1: | C21: Capacity of road network without CMP | F21: C2: | G21: Capacity of road network withCMP
C23: Improvement | D23: =(D18-G18)/D18% -> 41.402715

Sheet BAU (2030)
B2: CMP Emissions Baseline (Year 2009) | L2: CMP Emissions Business As Usual (2030)
B3: Vehicle Type | C3: Fuel Type | D3: Passenger Trips | E3: Average Trip Length | F3: Emissions at ideal mileage | G3: Impact of reduced network speed | H3: GHG Emissions at network speed | I3: Emissions at ideal speed (tonnes) | J3: Emissions at present network speed(tonnes) | L3: Vehicle Type | M3: Fuel Type | N3: Passenger Trips | O3: Average Trip Length | P3: Emissions at ideal mileage | Q3: Impact of reduced network speed | R3: Emissions at network speed | S3: Emissions at ideal speed (tonnes) | T3: Emissions at present network speed(tonnes)
B4: 2W 2s / 4s | C4: petrol | D4: ='CMP Data Input'!C9 -> 82300 | E4: ='CMP Data Input'!C21 -> 6 | F4: ='Emissions Factors'!I16 -> 15.5125 | G4: =(1-E34/100) -> 1.2405517 | H4: =F4*G4 -> 19.244059 | I4: =D4*E4*F4/1000000 -> 7.6600725 | J4: =D4*E4*H4/1000000 -> 9.5027161 | L4: 2W 2s / 4s | M4: petrol | N4: ='CMP Data Input'!D9*'BAU Assumptions'!F59 -> 155220 | O4: ='CMP Data Input'!D21 -> 7 | P4: ='Emissions Factors'!J16 -> 12.687781 | Q4: =(1-O34/100) -> 1.77467 | R4: =P4*Q4 -> 22.516624 | S4: =N4*O4*P4/1000000 -> 13.785782 | T4: =N4*O4*R4/1000000 -> 24.465213
B5: 3W 2s/4s | C5: Petrol | D5: ='CMP Data Input'!$C$11*'BAU Assumptions'!E64 -> 19342 | E5: ='CMP Data Input'!C22 -> 7 | F5: ='Emissions Factors'!I17 -> 28.384615 | G5: =1-E35/100 -> 1.2405517 | H5: =F5*G5 -> 35.212584 | I5: =D5*E5*F5/1000000 -> 3.8431066 | J5: =D5*E5*H5/1000000 -> 4.7675725 | L5: 3W 2s/4s | M5: Petrol | N5: ='CMP Data Input'!$D$11*'BAU Assumptions'!F64 -> 59340 | O5: ='CMP Data Input'!$D$22 -> 8.5 | P5: ='Emissions Factors'!J17 -> 23.215974 | Q5: =1-O35/100 -> 1.77467 | R5: =P5*Q5 -> 41.200691 | S5: =N5*O5*P5/1000000 -> 11.709905 | T5: =N5*O5*R5/1000000 -> 20.781217
B6: 3W 2s/4s | C6: CNG | D6: ='CMP Data Input'!$C$11*'BAU Assumptions'!E65 -> 0 | E6: ='CMP Data Input'!C22 -> 7 | F6: ='Emissions Factors'!I18 -> 29.884615 | G6: =G5 -> 1.2405517 | H6: =F6*G6 -> 37.073411 | I6: =D6*E6*F6/1000000 -> 0 | J6: =D6*E6*H6/1000000 -> 0 | L6: 3W 2s/4s | M6: CNG | N6: ='CMP Data Input'!$D$11*'BAU Assumptions'!F65 -> 0 | O6: ='CMP Data Input'!$D$22 -> 8.5 | P6: ='Emissions Factors'!J18 -> 24.442834 | Q6: =Q5 -> 1.77467 | R6: =P6*Q6 -> 43.377964 | S6: =N6*O6*P6/1000000 -> 0 | T6: =N6*O6*R6/1000000 -> 0
B7: 3W 2s/4s | C7: LPG | D7: ='CMP Data Input'!$C$11*'BAU Assumptions'!E66 -> 0 | E7: ='CMP Data Input'!C22 -> 7 | F7: ='Emissions Factors'!I19 -> 20.988462 | G7: =G6 -> 1.2405517 | H7: =F7*G7 -> 26.037272 | I7: =D7*E7*F7/1000000 -> 0 | J7: =D7*E7*H7/1000000 -> 0 | L7: 3W 2s/4s | M7: LPG | N7: ='CMP Data Input'!$D$11*'BAU Assumptions'!F66 -> 0 | O7: ='CMP Data Input'!$D$22 -> 8.5 | P7: ='Emissions Factors'!J19 -> 17.166608 | Q7: =Q6 -> 1.77467 | R7: =P7*Q7 -> 30.465064 | S7: =N7*O7*P7/1000000 -> 0 | T7: =N7*O7*R7/1000000 -> 0
B8: 3W Passenger Tempo | C8: Diesel | D8: ='CMP Data Input'!$C$11*'BAU Assumptions'!E67 -> 0 | E8: ='CMP Data Input'!C22 -> 7 | F8: ='Emissions Factors'!I20 -> 50.619231 | G8: =G7 -> 1.2405517 | H8: =F8*G8 -> 62.795774 | I8: =D8*E8*F8/1000000 -> 0 | J8: =D8*E8*H8/1000000 -> 0 | L8: 3W Passenger Tempo | M8: Diesel | N8: ='CMP Data Input'!$D$11*'BAU Assumptions'!F67 -> 0 | O8: ='CMP Data Input'!$D$22 -> 8.5 | P8: ='Emissions Factors'!J20 -> 41.40182 | Q8: =Q7 -> 1.77467 | R8: =P8*Q8 -> 73.474566 | S8: =N8*O8*P8/1000000 -> 0 | T8: =N8*O8*R8/1000000 -> 0
B9: Car | C9: petrol | D9: ='CMP Data Input'!$C$10*'BAU Assumptions'!E64 -> 29377 | E9: ='CMP Data Input'!C21 -> 6 | F9: ='Emissions Factors'!I21 -> 66.519231 | G9: =1-E36/100 -> 1.169865 | H9: =F9*G9 -> 77.81852 | I9: =D9*E9*F9/1000000 -> 11.724813 | J9: =D9*E9*H9/1000000 -> 13.716448 | L9: Car | M9: petrol | N9: ='CMP Data Input'!$D$10*'BAU Assumptions'!F64 -> 230280 | O9: ='CMP Data Input'!D21 -> 7 | P9: ='Emissions Factors'!J21 -> 54.40654 | Q9: =1-O36/100 -> 1.6818413 | R9: =P9*Q9 -> 91.503165 | S9: =N9*O9*P9/1000000 -> 87.701167 | T9: =N9*O9*R9/1000000 -> 147.49944
B10: Car | C10: diesel | D10: ='CMP Data Input'!$C$10*'BAU Assumptions'!E65 -> 0 | E10: ='CMP Data Input'!C21 -> 6 | F10: ='Emissions Factors'!I22 -> 59.446154 | G10: =G9 -> 1.169865 | H10: =F10*G10 -> 69.543975 | I10: =D10*E10*F10/1000000 -> 0 | J10: =D10*E10*H10/1000000 -> 0 | L10: Car | M10: diesel | N10: ='CMP Data Input'!$D$10*'BAU Assumptions'!F65 -> 0 | O10: ='CMP Data Input'!D21 -> 7 | P10: ='Emissions Factors'!J22 -> 48.621422 | Q10: =Q9 -> 1.6818413 | R10: =P10*Q10 -> 81.773513 | S10: =N10*O10*P10/1000000 -> 0 | T10: =N10*O10*R10/1000000 -> 0
B11: Car | C11: CNG | D11: ='CMP Data Input'!$C$10*'BAU Assumptions'!E66 -> 0 | E11: ='CMP Data Input'!C21 -> 6 | F11: ='Emissions Factors'!I23 -> 50.457692 | G11: =G10 -> 1.169865 | H11: =F11*G11 -> 59.028688 | I11: =D11*E11*F11/1000000 -> 0 | J11: =D11*E11*H11/1000000 -> 0 | L11: Car | M11: CNG | N11: ='CMP Data Input'!$D$10*'BAU Assumptions'!F66 -> 0 | O11: ='CMP Data Input'!D21 -> 7 | P11: ='Emissions Factors'!J23 -> 41.269697 | Q11: =Q10 -> 1.6818413 | R11: =P11*Q11 -> 69.409079 | S11: =N11*O11*P11/1000000 -> 0 | T11: =N11*O11*R11/1000000 -> 0
B12: Taxi | C12: petrol | D12: ='CMP Data Input'!$C$12*'BAU Assumptions'!E67 -> 0 | E12: ='CMP Data Input'!C21 -> 6 | F12: ='Emissions Factors'!I24 -> 66.519231 | G12: =G11 -> 1.169865 | H12: =F12*G12 -> 77.81852 | I12: =D12*E12*F12/1000000 -> 0 | J12: =D12*E12*H12/1000000 -> 0 | L12: Taxi | M12: petrol | N12: ='CMP Data Input'!$D$12*'BAU Assumptions'!F67 -> 0 | O12: ='CMP Data Input'!$D$22 -> 8.5 | P12: ='Emissions Factors'!J24 -> 54.40654 | Q12: =Q11 -> 1.6818413 | R12: =P12*Q12 -> 91.503165 | S12: =N12*O12*P12/1000000 -> 0 | T12: =N12*O12*R12/1000000 -> 0
B13: Taxi | C13: diesel | D13: ='CMP Data Input'!$C$12*'BAU Assumptions'!E68 -> 27977 | E13: ='CMP Data Input'!C21 -> 6 | F13: ='Emissions Factors'!I25 -> 57.215385 | G13: =G12 -> 1.169865 | H13: =F13*G13 -> 66.934276 | I13: =D13*E13*F13/1000000 -> 9.6042889 | J13: =D13*E13*H13/1000000 -> 11.235721 | L13: Taxi | M13: diesel | N13: ='CMP Data Input'!$D$12*'BAU Assumptions'!F68 -> 87460 | O13: ='CMP Data Input'!$D$22 -> 8.5 | P13: ='Emissions Factors'!J25 -> 46.79686 | Q13: =Q12 -> 1.6818413 | R13: =P13*Q13 -> 78.70489 | S13: =N13*O13*P13/1000000 -> 34.789254 | T13: =N13*O13*R13/1000000 -> 58.510003
B14: Taxi | C14: CNG | D14: ='CMP Data Input'!$C$12*'BAU Assumptions'!E69 -> 0 | E14: ='CMP Data Input'!C21 -> 6 | F14: ='Emissions Factors'!I26 -> 50.457692 | G14: =G13 -> 1.169865 | H14: =F14*G14 -> 59.028688 | I14: =D14*E14*F14/1000000 -> 0 | J14: =D14*E14*H14/1000000 -> 0 | L14: Taxi | M14: CNG | N14: ='CMP Data Input'!$D$12*'BAU Assumptions'!F69 -> 0 | O14: ='CMP Data Input'!$D$22 -> 8.5 | P14: ='Emissions Factors'!J26 -> 41.269697 | Q14: =Q13 -> 1.6818413 | R14: =P14*Q14 -> 69.409079 | S14: =N14*O14*P14/1000000 -> 0 | T14: =N14*O14*R14/1000000 -> 0
B15: Taxi | C15: LPG | D15: ='CMP Data Input'!$C$12*'BAU Assumptions'!E70 -> 0 | E15: ='CMP Data Input'!C21 -> 6 | F15: ='Emissions Factors'!I27 -> 53.865385 | G15: =G14 -> 1.169865 | H15: =F15*G15 -> 63.015228 | I15: =D15*E15*F15/1000000 -> 0 | J15: =D15*E15*H15/1000000 -> 0 | L15: Taxi | M15: LPG | N15: ='CMP Data Input'!$D$12*'BAU Assumptions'!F70 -> 0 | O15: ='CMP Data Input'!$D$22 -> 8.5 | P15: ='Emissions Factors'!J27 -> 44.056872 | Q15: =Q14 -> 1.6818413 | R15: =P15*Q15 -> 74.096665 | S15: =N15*O15*P15/1000000 -> 0 | T15: =N15*O15*R15/1000000 -> 0
B16: Mini Bus | C16: Diesel | D16: ='CMP Data Input'!$C$13*'BAU Assumptions'!E71 -> 0 | E16: ='CMP Data Input'!$C$23 -> 8 | F16: ='Emissions Factors'!I28 -> 20.0625 | G16: =1-E37/100 -> 1.3298865 | H16: =F16*G16 -> 26.680847 | I16: =D16*E16*F16/1000000 -> 0 | J16: =D16*E16*H16/1000000 -> 0 | L16: Mini Bus | M16: Diesel | N16: ='CMP Data Input'!$D$13*'BAU Assumptions'!F71 -> 0 | O16: ='CMP Data Input'!D23 -> 10 | P16: ='Emissions Factors'!J28 -> 16.409258 | Q16: =1-O37/100 -> 1.6818413 | R16: =P16*Q16 -> 27.597767 | S16: =N16*O16*P16/1000000 -> 0 | T16: =N16*O16*R16/1000000 -> 0
B17: Bus | C17: Diesel | D17: ='CMP Data Input'!$C$13*'BAU Assumptions'!E72 -> 70781 | E17: ='CMP Data Input'!$C$23 -> 8 | F17: ='Emissions Factors'!I29 -> 13.721111 | G17: =G16 -> 1.3298865 | H17: =F17*G17 -> 18.24752 | I17: =D17*E17*F17/1000000 -> 7.7695517 | J17: =D17*E17*H17/1000000 -> 10.332622 | L17: Bus | M17: Diesel | N17: ='CMP Data Input'!$D$13*'BAU Assumptions'!F72 -> 101040 | O17: ='CMP Data Input'!D23 -> 10 | P17: ='Emissions Factors'!J29 -> 11.222592 | Q17: =Q16 -> 1.6818413 | R17: =P17*Q17 -> 18.874618 | S17: =N17*O17*P17/1000000 -> 11.339307 | T17: =N17*O17*R17/1000000 -> 19.070914
B18: Bus | C18: CNG | D18: ='CMP Data Input'!$C$13*'BAU Assumptions'!E73 -> 0 | E18: ='CMP Data Input'!$C$23 -> 8 | F18: ='Emissions Factors'!I30 -> 17.922222 | G18: =G17 -> 1.3298865 | H18: =F18*G18 -> 23.834521 | I18: =D18*E18*F18/1000000 -> 0 | J18: =D18*E18*H18/1000000 -> 0 | L18: Bus | M18: CNG | N18: ='CMP Data Input'!$D$13*'BAU Assumptions'!F73 -> 0 | O18: ='CMP Data Input'!D23 -> 10 | P18: ='Emissions Factors'!J30 -> 14.65871 | Q18: =Q17 -> 1.6818413 | R18: =P18*Q18 -> 24.653623 | S18: =N18*O18*P18/1000000 -> 0 | T18: =N18*O18*R18/1000000 -> 0
B19: BRTS | C19: Diesel | D19: ='CMP Data Input'!$C$13*'BAU Assumptions'!E74 -> 0 | E19: ='CMP Data Input'!$C$23 -> 8 | F19: ='Emissions Factors'!I31 -> 13.721111 | G19: =G18 -> 1.3298865 | H19: =F19*G19 -> 18.24752 | I19: =D19*E19*F19/1000000 -> 0 | J19: =D19*E19*H19/1000000 -> 0 | L19: BRTS | M19: Diesel | N19: ='CMP Data Input'!$D$13*'BAU Assumptions'!F74 -> 0 | O19: ='CMP Data Input'!D23 -> 10 | P19: ='Emissions Factors'!J31 -> 11.222592 | Q19: =Q18 -> 1.6818413 | R19: =P19*Q19 -> 18.874618 | S19: =N19*O19*P19/1000000 -> 0 | T19: =N19*O19*R19/1000000 -> 0
B20: BRTS | C20: CNG | D20: ='CMP Data Input'!$C$13*'BAU Assumptions'!E75 -> 0 | E20: ='CMP Data Input'!$C$23 -> 8 | F20: ='Emissions Factors'!I32 -> 17.922222 | G20: =G19 -> 1.3298865 | H20: =F20*G20 -> 23.834521 | I20: =D20*E20*F20/1000000 -> 0 | J20: =D20*E20*H20/1000000 -> 0 | L20: BRTS | M20: CNG | N20: ='CMP Data Input'!$D$13*'BAU Assumptions'!F75 -> 0 | O20: ='CMP Data Input'!D23 -> 10 | P20: ='Emissions Factors'!J32 -> 14.65871 | Q20: =Q19 -> 1.6818413 | R20: =P20*Q20 -> 24.653623 | S20: =N20*O20*P20/1000000 -> 0 | T20: =N20*O20*R20/1000000 -> 0
B21: MRTS | C21: Electricity | L21: MRTS
B22: Monorail | C22: Electricity | L22: Monorail
B23: Peak Hour Total Emissions | I23: =SUM(I4:I20) -> 40.601832 | J23: =SUM(J4:J20) -> 49.55508 | L23: Peak Hour Total Emissions | S23: =SUM(S4:S20) -> 159.32541 | T23: =SUM(T4:T20) -> 270.32679
B24: Total CO2 emissions per day | I24: =I23/'CMP Data Input'!N37 -> 610.836 | J24: =J23/'CMP Data Input'!N37 -> 745.53351 | L24: Total CO2 emissions per day | S24: =S23/'CMP Data Input'!N37 -> 2396.978 | T24: =T23/'CMP Data Input'!N37 -> 4066.9429
B25: Total Emissions per year | I25: =I24*365 -> 222955.14 | J25: =J24*365 -> 272119.73 | L25: Total Emissions per year | S25: =S24*365 -> 874896.96 | T25: =T24*365 -> 1484434.1
J27: =(J25-I25)/J25 -> 0.18067265 | T27: =(T25-S25)/T25 -> 0.41061922
B29: Network Speed Impact | L29: Network Speed Impact
B30: ='CMP Data Input'!B24 -> Average Network Speed | E30: ='CMP Data Input'!C24 -> 28 | L30: ='CMP Data Input'!B24 -> Average Network Speed | O30: ='CMP Data Input'!D24 -> 14
B31: Lower category speed no | E31: =ROUNDDOWN(E30/5,0)*5 -> 25 | L31: Lower category speed no | O31: =ROUNDDOWN(O30/5,0)*5 -> 10
B32: Higher category speed no | E32: =E31+5 -> 30 | L32: Higher category speed no | O32: =O31+5 -> 15
B33: Vehicle Category | C33: Lower Category | D33: Higher Category | E33: At network speed | L33: Vehicle Category | M33: Lower Category | N33: Higher Category | O33: At network speed
B34: 2W | C34: =VLOOKUP($E$31, speed_emission_rel, 2, FALSE) -> -26.141662 | D34: =VLOOKUP($E32, speed_emission_rel, 2, FALSE) -> -20.925438 | E34: =C34+(D34-C34)/5*($E$32-$E$30) -> -24.055172 | L34: 2W | M34: =VLOOKUP($O$31, speed_emission_rel, 2, FALSE) -> -79.453329 | N34: =VLOOKUP($O32, speed_emission_rel, 2, FALSE) -> -69.521663 | O34: =M34+(N34-M34)/5*($O$32-$O$30) -> -77.466996
B35: 3W | C35: =VLOOKUP($E$31, speed_emission_rel, 3, FALSE) -> -26.141662 | D35: =VLOOKUP($E32, speed_emission_rel, 3, FALSE) -> -20.925438 | E35: =C35+(D35-C35)/5*($E$32-$E$30) -> -24.055172 | L35: 3W | M35: =VLOOKUP($O$31, speed_emission_rel, 3, FALSE) -> -79.453329 | N35: =VLOOKUP($O32, speed_emission_rel, 3, FALSE) -> -69.521663 | O35: =M35+(N35-M35)/5*($O$32-$O$30) -> -77.466996
B36: Cars / Taxis | C36: =VLOOKUP($E$31, speed_emission_rel, 4, FALSE) -> -20.023033 | D36: =VLOOKUP($E32, speed_emission_rel, 4, FALSE) -> -12.4317 | E36: =C36+(D36-C36)/5*($E$32-$E$30) -> -16.9865 | L36: Cars / Taxis | M36: =VLOOKUP($O$31, speed_emission_rel, 4, FALSE) -> -69.932438 | N36: =VLOOKUP($O32, speed_emission_rel, 4, FALSE) -> -61.190883 | O36: =M36+(N36-M36)/5*($O$32-$O$30) -> -68.184127
B37: Bus | C37: =VLOOKUP($E$31, speed_emission_rel, 6, FALSE) -> -39.374696 | D37: =VLOOKUP($E$32, speed_emission_rel, 6, FALSE) -> -23.409575 | E37: =C37+(D37-C37)/5*($E$32-$E$30) -> -32.988647 | L37: Bus | M37: =VLOOKUP($O$31, speed_emission_rel, 6, FALSE) -> -69.932438 | N37: =VLOOKUP($O$32, speed_emission_rel, 6, FALSE) -> -61.190883 | O37: =M37+(N37-M37)/5*($O$32-$O$30) -> -68.184127

Sheet CMP_As Is Scenario (2030)
B2: CMP Emissions in CMP Implementation Scenario ( CMP As Is - 2030)
B3: Vehicle Type | C3: Fuel Type | D3: Passenger Trips | E3: Average Trip Length | F3: Emissions at ideal mileage | G3: Impact of reduced network speed | H3: Emissions at network speed | I3: Emissions at ideal speed (tonnes) | J3: Emissions at present network speed(tonnes)
B4: 2W 2s / 4s | C4: petrol | D4: ='CMP Data Input'!G9*'BAU Assumptions'!G59 -> 96904 | E4: ='CMP Data Input'!E21 -> 6 | F4: ='Emissions Factors'!J16 -> 12.687781 | G4: =(1-E35/100) -> 1.126861 | H4: =F4*G4 -> 14.297366 | I4: =D4*E4*F4/1000000 -> 7.3769806 | J4: =D4*E4*H4/1000000 -> 8.3128318
B5: 3W 2s/4s | C5: Petrol | D5: ='CMP Data Input'!G11*'BAU Assumptions'!G60 -> 35841 | E5: ='CMP Data Input'!E22 -> 9.5 | F5: ='Emissions Factors'!J17 -> 23.215974 | G5: =1-E36/100 -> 1.126861 | H5: =F5*G5 -> 26.161176 | I5: =D5*E5*F5/1000000 -> 7.9047953 | J5: =D5*E5*H5/1000000 -> 8.9076056
B6: 3W 2s/4s | C6: CNG | D6: ='CMP Data Input'!G11*'BAU Assumptions'!G61 -> 0 | E6: ='CMP Data Input'!E22 -> 9.5 | F6: ='Emissions Factors'!J18 -> 24.442834 | G6: =G5 -> 1.126861 | H6: =F6*G6 -> 27.543677 | I6: =D6*E6*F6/1000000 -> 0 | J6: =D6*E6*H6/1000000 -> 0
B7: 3W 2s/4s | C7: LPG | D7: ='CMP Data Input'!G11*'BAU Assumptions'!G62 -> 0 | E7: ='CMP Data Input'!E22 -> 9.5 | F7: ='Emissions Factors'!J19 -> 17.166608 | G7: =G6 -> 1.126861 | H7: =F7*G7 -> 19.344381 | I7: =D7*E7*F7/1000000 -> 0 | J7: =D7*E7*H7/1000000 -> 0
B8: 3W Passenger Tempo | C8: Diesel | D8: ='CMP Data Input'!$D$11*'BAU Assumptions'!G63 -> 0 | E8: ='CMP Data Input'!E22 -> 9.5 | F8: ='Emissions Factors'!J20 -> 41.40182 | G8: =G7 -> 1.126861 | H8: =F8*G8 -> 46.654097 | I8: =D8*E8*F8/1000000 -> 0 | J8: =D8*E8*H8/1000000 -> 0
B9: Car | C9: petrol | D9: ='CMP Data Input'!G10*'BAU Assumptions'!G64 -> 143763 | E9: ='CMP Data Input'!$E$21 -> 6 | F9: ='Emissions Factors'!J21 -> 54.40654 | G9: =1-E37/100 -> 1.0813231 | H9: =F9*G9 -> 58.83105 | I9: =D9*E9*F9/1000000 -> 46.929885 | J9: =D9*E9*H9/1000000 -> 50.746369
B10: Car | C10: diesel | D10: ='CMP Data Input'!G10*'BAU Assumptions'!G65 -> 0 | E10: ='CMP Data Input'!$E$21 -> 6 | F10: ='Emissions Factors'!J22 -> 48.621422 | G10: =G9 -> 1.0813231 | H10: =F10*G10 -> 52.575467 | I10: =D10*E10*F10/1000000 -> 0 | J10: =D10*E10*H10/1000000 -> 0
B11: Car | C11: CNG | D11: ='CMP Data Input'!G10*'BAU Assumptions'!G66 -> 0 | E11: ='CMP Data Input'!$E$21 -> 6 | F11: ='Emissions Factors'!J23 -> 41.269697 | G11: =G10 -> 1.0813231 | H11: =F11*G11 -> 44.625877 | I11: =D11*E11*F11/1000000 -> 0 | J11: =D11*E11*H11/1000000 -> 0
B12: Taxi | C12: petrol | D12: ='CMP Data Input'!G12*'BAU Assumptions'!G67 -> 0 | E12: ='CMP Data Input'!$E$22 -> 9.5 | F12: ='Emissions Factors'!J24 -> 54.40654 | G12: =G11 -> 1.0813231 | H12: =F12*G12 -> 58.83105 | I12: =D12*E12*F12/1000000 -> 0 | J12: =D12*E12*H12/1000000 -> 0 | O12: emissions per trip from PV & IPT | S12: =(J4+J5+J9+J13)/(D4*E4+D5*E5+D9*E9+D13*E13)*1000*1000 -> 40.834519 | T12: =(J4+J5+J9+J13)/(D4+D5+D9+D13)*10^6 -> 283.48586
B13: Taxi | C13: diesel | D13: ='CMP Data Input'!G12*'BAU Assumptions'!G68 -> 52826 | E13: ='CMP Data Input'!$E$22 -> 9.5 | F13: ='Emissions Factors'!J25 -> 46.79686 | G13: =G12 -> 1.0813231 | H13: =F13*G13 -> 50.602526 | I13: =D13*E13*F13/1000000 -> 23.484864 | J13: =D13*E13*H13/1000000 -> 25.394726 | O13: emissions per trip from PT | S13: =(J17+J19+J21+J22)/(D17+D19+D21+D22)*1000/13*1000 -> 33.037427 | T13: =(J17+J19+J21+J22)/(D17+D19+D21+D22)*10^6 -> 429.48655
B14: Taxi | C14: CNG | D14: ='CMP Data Input'!G12*'BAU Assumptions'!G69 -> 0 | E14: ='CMP Data Input'!$E$22 -> 9.5 | F14: ='Emissions Factors'!J26 -> 41.269697 | G14: =G13 -> 1.0813231 | H14: =F14*G14 -> 44.625877 | I14: =D14*E14*F14/1000000 -> 0 | J14: =D14*E14*H14/1000000 -> 0
B15: Taxi | C15: LPG | D15: ='CMP Data Input'!G12*'BAU Assumptions'!G70 -> 0 | E15: ='CMP Data Input'!$E$22 -> 9.5 | F15: ='Emissions Factors'!J27 -> 44.056872 | G15: =G14 -> 1.0813231 | H15: =F15*G15 -> 47.639714 | I15: =D15*E15*F15/1000000 -> 0 | J15: =D15*E15*H15/1000000 -> 0 | S15: =(S12-S13)/S12% -> 19.094365 | T15: =(T12-T13)/T12% -> -51.501929
B16: Mini Bus | C16: Diesel | D16: ='CMP Data Input'!G15*'BAU Assumptions'!G71 -> 0 | E16: ='CMP Data Input'!$E$23 -> 13 | F16: ='Emissions Factors'!J28 -> 16.409258 | G16: =1-E38/100 -> 1.1864549 | H16: =F16*G16 -> 19.468844 | I16: =D16*E16*F16/1000000 -> 0 | J16: =D16*E16*H16/1000000 -> 0
B17: Bus | C17: Diesel | D17: ='CMP Data Input'!G15*'BAU Assumptions'!G72 -> 101333 | E17: ='CMP Data Input'!$E$23 -> 13 | F17: ='Emissions Factors'!J29 -> 11.222592 | G17: =G16 -> 1.1864549 | H17: =F17*G17 -> 13.315099 | I17: =D17*E17*F17/1000000 -> 14.783846 | J17: =D17*E17*H17/1000000 -> 17.540366 | O17: =F9/F17 -> 4.8479478
B18: Bus | C18: CNG | D18: ='CMP Data Input'!G15*'BAU Assumptions'!G73 -> 0 | E18: ='CMP Data Input'!$E$23 -> 13 | F18: ='Emissions Factors'!J30 -> 14.65871 | G18: =G17 -> 1.1864549 | H18: =F18*G18 -> 17.391898 | I18: =D18*E18*F18/1000000 -> 0 | J18: =D18*E18*H18/1000000 -> 0
B19: BRTS | C19: Diesel | D19: ='CMP Data Input'!G18*'BAU Assumptions'!G74 -> 31666.562 | E19: ='CMP Data Input'!$E$23 -> 13 | F19: ='Emissions Factors'!J31 -> 11.222592 | G19: =G18 -> 1.1864549 | H19: =F19*G19 -> 13.315099 | I19: =D19*E19*F19/1000000 -> 4.6199518 | J19: =D19*E19*H19/1000000 -> 5.4813643
B20: BRTS | C20: CNG | D20: ='CMP Data Input'!G18*'BAU Assumptions'!G75 -> 0 | E20: ='CMP Data Input'!$E$23 -> 13 | F20: ='Emissions Factors'!J32 -> 14.65871 | G20: =G19 -> 1.1864549 | H20: =F20*G20 -> 17.391898 | I20: =D20*E20*F20/1000000 -> 0 | J20: =D20*E20*H20/1000000 -> 0
B21: MRTS | C21: Electricity | D21: ='CMP Data Input'!G19*'BAU Assumptions'!G76 -> 101333 | E21: ='CMP Data Input'!$E$23 -> 13 | F21: ='Emissions Factors'!G33 -> 53.68 | G21: 1 | H21: =F21*G21 -> 53.68 | I21: =D21*E21*F21/1000000 -> 70.714221 | J21: =D21*E21*H21/1000000 -> 70.714221
B22: Monorail | C22: Electricity | D22: ='CMP Data Input'!G17*'BAU Assumptions'!G77 -> 18999.938 | E22: ='CMP Data Input'!$E$23 -> 13 | F22: ='Emissions Factors'!G34 -> 61 | G22: 1 | H22: =F22*G22 -> 61 | I22: =D22*E22*F22/1000000 -> 15.06695 | J22: =D22*E22*H22/1000000 -> 15.06695
B23: Total Trips | D23: =SUM(D4:D22) -> 582666.5
B24: Peak Hour Total Emissions | I24: =SUM(I4:I20) -> 105.10032 | J24: =SUM(J4:J21) -> 187.09748
B25: Total CO2 emissions per day | I25: =I24/'CMP Data Input'!N37 -> 1581.1863 | J25: =J24/'CMP Data Input'!N37 -> 2814.7961
B26: Total Emissions per year | I26: =I25*365 -> 577132.99 | J26: =J25*365 -> 1027400.6
B30: Network Speed Impact
B31: ='CMP Data Input'!B24 -> Average Network Speed | E31: 32
B32: Lower category speed no | E32: =ROUNDDOWN(E31/5,0)*5 -> 30
B33: Higher category speed no | E33: =E32+5 -> 35
B34: Vehicle Category | C34: Lower Category | D34: Higher Category | E34: At network speed
B35: 2W | C35: =VLOOKUP($E$32, speed_emission_rel, 2, FALSE) -> -20.925438 | D35: =VLOOKUP($E33, speed_emission_rel, 2, FALSE) -> -7.1932088 | E35: =C35+(D35-C35)/5*($E$33-$E$31) -> -12.6861
B36: 3W | C36: =VLOOKUP($E$32, speed_emission_rel, 3, FALSE) -> -20.925438 | D36: =VLOOKUP($E33, speed_emission_rel, 3, FALSE) -> -7.1932088 | E36: =C36+(D36-C36)/5*($E$33-$E$31) -> -12.6861
B37: Cars / Taxis | C37: =VLOOKUP($E$32, speed_emission_rel, 4, FALSE) -> -12.4317 | D37: =VLOOKUP($E33, speed_emission_rel, 4, FALSE) -> -5.2660525 | E37: =C37+(D37-C37)/5*($E$33-$E$31) -> -8.1323116
B38: Bus | C38: =VLOOKUP($E$32, speed_emission_rel, 6, FALSE) -> -23.409575 | D38: =VLOOKUP($E$33, speed_emission_rel, 6, FALSE) -> -15.469428 | E38: =C38+(D38-C38)/5*($E$33-$E$31) -> -18.645487

Sheet Induced Demand
B2: Induction Effect
B4: New traffic due to induction effect | D4: Elasticity | E4: = | F4: 0.9 | G4: of the new capacity added | H4: From graph A
E5: = | F5: 0.90%*(C2-C1)
B7: V(New)/C2 | C7: = | D7: [V+ 0.65*(C2-C1)]/C2 | E7: = | F7: =0.518+(F4*(0.884)*(1-(0.518/0.884))) -> 0.8474 | G7: Estimated ( details of calculation shown in report)
B8: C2 - Capacity in 2032 after CMP implementation (Volume remain same in case of BAU and CMP As Is) | E8: =
D9: Initial Network Speed | E9: = | F9: 16
D10: Network speeds achieved | E10: = | F10: 17.777778 | G10: Using the graph B
G14: Graph A: Observed elasticity or induced demand
B15: Graph B: Network Speed & Road Characteristic
G27: Source: Victoria Transport Policy Institute
G28: Ref: http://www.vtpi.org/gentraf.pdf
B33: The above graph shows the various V/C and network speed characteristic
D36: Portion of New Capacity Absorbed by Induced Traffic
D37: Author | E37: Long-term (3+ yrs)
D38: SACTRA, 1994 | E38: 50 - 100%
D39: Goodwin | E39: 0.57
D40: Johnson and Ceerla | E40: 60 - 90%
D41: Hansen and Huang, 1997 | E41: 0.9
D42: Fulton, et al. | E42: 50 - 80%
D43: Marshall, | E43: 76 - 85%
D44: Noland, 2001 | E44: 70 - 100%
D46: Source: Victoria Transport Policy Institute

Sheet CMP_Most Likely (2030)
B2: CMP Emissions considering induction effect (2030)
B3: Vehicle Type | C3: Fuel Type | D3: Passenger Trips | E3: Average Trip Length | F3: Emissions at ideal mileage | G3: Impact of reduced network speed | H3: Emissions at network speed | I3: Emissions at ideal speed (tonnes) | J3: Emissions at present network speed(tonnes)
B4: 2W 2s / 4s | C4: petrol | D4: ='CMP Data Input'!G9*'BAU Assumptions'!G59 -> 96904 | E4: ='CMP Data Input'!E21 -> 6 | F4: ='Emissions Factors'!J16 -> 12.687781 | G4: =(1-E35/100) -> 1.5776768 | H4: =F4*G4 -> 20.017219 | I4: =D4*E4*F4/1000000 -> 7.3769806 | J4: =D4*E4*H4/1000000 -> 11.638491
B5: 3W 2s/4s | C5: Petrol | D5: ='CMP Data Input'!G11*'BAU Assumptions'!G60 -> 35841 | E5: ='CMP Data Input'!E22 -> 9.5 | F5: ='Emissions Factors'!J17 -> 23.215974 | G5: =1-E36/100 -> 1.5776768 | H5: =F5*G5 -> 36.627304 | I5: =D5*E5*F5/1000000 -> 7.9047953 | J5: =D5*E5*H5/1000000 -> 12.471212
B6: 3W 2s/4s | C6: CNG | D6: ='CMP Data Input'!G11*'BAU Assumptions'!G61 -> 0 | E6: ='CMP Data Input'!E22 -> 9.5 | F6: ='Emissions Factors'!J18 -> 24.442834 | G6: =G5 -> 1.5776768 | H6: =F6*G6 -> 38.562893 | I6: =D6*E6*F6/1000000 -> 0 | J6: =D6*E6*H6/1000000 -> 0
B7: 3W 2s/4s | C7: LPG | D7: ='CMP Data Input'!G11*'BAU Assumptions'!G62 -> 0 | E7: ='CMP Data Input'!E22 -> 9.5 | F7: ='Emissions Factors'!J19 -> 17.166608 | G7: =G6 -> 1.5776768 | H7: =F7*G7 -> 27.08336 | I7: =D7*E7*F7/1000000 -> 0 | J7: =D7*E7*H7/1000000 -> 0
B8: 3W Passenger Tempo | C8: Diesel | D8: ='CMP Data Input'!$D$11*'BAU Assumptions'!G63 -> 0 | E8: ='CMP Data Input'!E22 -> 9.5 | F8: ='Emissions Factors'!J20 -> 41.40182 | G8: =G7 -> 1.5776768 | H8: =F8*G8 -> 65.318692 | I8: =D8*E8*F8/1000000 -> 0 | J8: =D8*E8*H8/1000000 -> 0
B9: Car | C9: petrol | D9: ='CMP Data Input'!G10*'BAU Assumptions'!G64 -> 143763 | E9: ='CMP Data Input'!$E$21 -> 6 | F9: ='Emissions Factors'!J21 -> 54.40654 | G9: =1-E37/100 -> 1.4927341 | H9: =F9*G9 -> 81.214496 | I9: =D9*E9*F9/1000000 -> 46.929885 | J9: =D9*E9*H9/1000000 -> 70.053837
B10: Car | C10: diesel | D10: ='CMP Data Input'!G10*'BAU Assumptions'!G65 -> 0 | E10: ='CMP Data Input'!$E$21 -> 6 | F10: ='Emissions Factors'!J22 -> 48.621422 | G10: =G9 -> 1.4927341 | H10: =F10*G10 -> 72.578852 | I10: =D10*E10*F10/1000000 -> 0 | J10: =D10*E10*H10/1000000 -> 0
B11: Car | C11: CNG | D11: ='CMP Data Input'!G10*'BAU Assumptions'!G66 -> 0 | E11: ='CMP Data Input'!$E$21 -> 6 | F11: ='Emissions Factors'!J23 -> 41.269697 | G11: =G10 -> 1.4927341 | H11: =F11*G11 -> 61.604682 | I11: =D11*E11*F11/1000000 -> 0 | J11: =D11*E11*H11/1000000 -> 0
B12: Taxi | C12: petrol | D12: ='CMP Data Input'!G12*'BAU Assumptions'!G67 -> 0 | E12: ='CMP Data Input'!$E$22 -> 9.5 | F12: ='Emissions Factors'!J24 -> 54.40654 | G12: =G11 -> 1.4927341 | H12: =F12*G12 -> 81.214496 | I12: =D12*E12*F12/1000000 -> 0 | J12: =D12*E12*H12/1000000 -> 0
B13: Taxi | C13: diesel | D13: ='CMP Data Input'!G12*'BAU Assumptions'!G68 -> 52826 | E13: ='CMP Data Input'!$E$22 -> 9.5 | F13: ='Emissions Factors'!J25 -> 46.79686 | G13: =G12 -> 1.4927341 | H13: =F13*G13 -> 69.855267 | I13: =D13*E13*F13/1000000 -> 23.484864 | J13: =D13*E13*H13/1000000 -> 35.056656
B14: Taxi | C14: CNG | D14: ='CMP Data Input'!G12*'BAU Assumptions'!G69 -> 0 | E14: ='CMP Data Input'!$E$22 -> 9.5 | F14: ='Emissions Factors'!J26 -> 41.269697 | G14: =G13 -> 1.4927341 | H14: =F14*G14 -> 61.604682 | I14: =D14*E14*F14/1000000 -> 0 | J14: =D14*E14*H14/1000000 -> 0
B15: Taxi | C15: LPG | D15: ='CMP Data Input'!G12*'BAU Assumptions'!G70 -> 0 | E15: ='CMP Data Input'!$E$22 -> 9.5 | F15: ='Emissions Factors'!J27 -> 44.056872 | G15: =G14 -> 1.4927341 | H15: =F15*G15 -> 65.765193 | I15: =D15*E15*F15/1000000 -> 0 | J15: =D15*E15*H15/1000000 -> 0
B16: Mini Bus | C16: Diesel | D16: ='CMP Data Input'!G15*'BAU Assumptions'!G71 -> 0 | E16: ='CMP Data Input'!$E$23 -> 13 | F16: ='Emissions Factors'!J28 -> 16.409258 | G16: =1-E38/100 -> 1.5665628 | H16: =F16*G16 -> 25.706133 | I16: =D16*E16*F16/1000000 -> 0 | J16: =D16*E16*H16/1000000 -> 0
B17: Bus | C17: Diesel | D17: ='CMP Data Input'!G15*'BAU Assumptions'!G72 -> 101333 | E17: ='CMP Data Input'!$E$23 -> 13 | F17: ='Emissions Factors'!J29 -> 11.222592 | G17: =G16 -> 1.5665628 | H17: =F17*G17 -> 17.580895 | I17: =D17*E17*F17/1000000 -> 14.783846 | J17: =D17*E17*H17/1000000 -> 23.159823
B18: Bus | C18: CNG | D18: ='CMP Data Input'!G15*'BAU Assumptions'!G73 -> 0 | E18: ='CMP Data Input'!$E$23 -> 13 | F18: ='Emissions Factors'!J30 -> 14.65871 | G18: =G17 -> 1.5665628 | H18: =F18*G18 -> 22.96379 | I18: =D18*E18*F18/1000000 -> 0 | J18: =D18*E18*H18/1000000 -> 0
B19: BRTS | C19: Diesel | D19: ='CMP Data Input'!G18*'BAU Assumptions'!G74 -> 31666.562 | E19: ='CMP Data Input'!$E$23 -> 13 | F19: ='Emissions Factors'!J31 -> 11.222592 | G19: =G18 -> 1.5665628 | H19: =F19*G19 -> 17.580895 | I19: =D19*E19*F19/1000000 -> 4.6199518 | J19: =D19*E19*H19/1000000 -> 7.2374447
B20: BRTS | C20: CNG | D20: ='CMP Data Input'!G18*'BAU Assumptions'!G75 -> 0 | E20: ='CMP Data Input'!$E$23 -> 13 | F20: ='Emissions Factors'!J32 -> 14.65871 | G20: =G19 -> 1.5665628 | H20: =F20*G20 -> 22.96379 | I20: =D20*E20*F20/1000000 -> 0 | J20: =D20*E20*H20/1000000 -> 0
B21: MRTS | C21: Electricity | D21: ='CMP Data Input'!G19*'BAU Assumptions'!G76 -> 101333 | E21: ='CMP Data Input'!$E$23 -> 13 | F21: ='Emissions Factors'!G33 -> 53.68 | G21: 1 | H21: =F21*G21 -> 53.68 | I21: =D21*E21*F21/1000000 -> 70.714221 | J21: =D21*E21*H21/1000000 -> 70.714221
B22: Monorail | C22: Electricity | D22: ='CMP Data Input'!G17*'BAU Assumptions'!G77 -> 18999.938 | E22: ='CMP Data Input'!$E$23 -> 13 | F22: ='Emissions Factors'!G34 -> 61 | G22: 1 | H22: =F22*G22 -> 61 | I22: =D22*E22*F22/1000000 -> 15.06695 | J22: =D22*E22*H22/1000000 -> 15.06695
B23: Total Trips | D23: =SUM(D4:D22) -> 582666.5
B24: Peak Hour Total Emissions | I24: =SUM(I4:I20) -> 105.10032 | J24: =SUM(J4:J21) -> 230.33169
B25: Total CO2 emissions per day | I25: =I24/'CMP Data Input'!N37 -> 1581.1863 | J25: =J24/'CMP Data Input'!N37 -> 3465.2348
B26: Total Emissions per year | I26: =I25*365 -> 577132.99 | J26: =J25*365 -> 1264810.7
B30: Network Speed Impact
B31: ='CMP Data Input'!B24 -> Average Network Speed | E31: ='Induced Demand'!F10 -> 17.777778
B32: Lower category speed no | E32: =ROUNDDOWN(E31/5,0)*5 -> 15
B33: Higher category speed no | E33: =E32+5 -> 20
B34: Vehicle Category | C34: Lower Category | D34: Higher Category | E34: At network speed
B35: 2W | C35: =VLOOKUP($E$32, speed_emission_rel, 2, FALSE) -> -69.521663 | D35: =VLOOKUP($E33, speed_emission_rel, 2, FALSE) -> -43.075207 | E35: =C35+(D35-C35)/5*($E$33-$E$31) -> -57.767683
B36: 3W | C36: =VLOOKUP($E$32, speed_emission_rel, 3, FALSE) -> -69.521663 | D36: =VLOOKUP($E33, speed_emission_rel, 3, FALSE) -> -43.075207 | E36: =C36+(D36-C36)/5*($E$33-$E$31) -> -57.767683
B37: Cars / Taxis | C37: =VLOOKUP($E$32, speed_emission_rel, 4, FALSE) -> -61.190883 | D37: =VLOOKUP($E33, speed_emission_rel, 4, FALSE) -> -34.37656 | E37: =C37+(D37-C37)/5*($E$33-$E$31) -> -49.273406
B38: Bus | C38: =VLOOKUP($E$32, speed_emission_rel, 6, FALSE) -> -61.190883 | D38: =VLOOKUP($E$33, speed_emission_rel, 6, FALSE) -> -50.988027 | E38: =C38+(D38-C38)/5*($E$33-$E$31) -> -56.65628

Sheet Additional Measures
B3: Additional Measures Assumptions
B4: Avoid Scenario | C4: 0.25 | E4: Total transport demand elimination due to land use measures
B5: Reduce percentage | C5: 0.5 | E5: Percentage of trips eliminated entirely as a fraction of total demand elimination
B6: Elimate trips | C6: =C4*(1-C5) -> 0.125 | D6: Not to be edited
B7: Trip length reduction | C7: =1/(1-(C4-C6))-1 -> 0.14285714 | D7: Not to be edited
B8: Additional Modal Shift | G8: Results | H8: Load factor improvement | I8: =D55 -> 0.020360378
B9: From | C9: PV / IPT | H9: Other green measures | I9: =D77 -> 0.13989004
B10: To | C10: PT | H10: Electric Cars | I10: =D79 -> 0.0077749457
B11: % | C11: 0.1 | G11: Net Additional Measures Impact | I11: =SUM(I8:I10) -> 0.16802536
B12: Total Trips Info in Avoid Scenario | D12: New Shift Percentage | E12: Addition
B13: PV/IPT | C13: =SUM('CMP Add Measures(2030)'!F4:F15) -> 259350.53 | D13: =ROUNDUP(0.95*C13,0) -> 246383
B14: PT | C14: =SUM('CMP Add Measures(2030)'!F16:F22) -> 243832.53 | D14: =C14+C13-D13 -> 256800.06 | E14: =D14-C14 -> 12967.525
B18: Additional Green Measures Assumptions
B19: CNG emission Factor as a fraction of Gasoline | C19: =0.184/0.253 -> 0.72727273
B20: Electric Vehicle Emission factor per km per passenger as a fraction of gasoline vehicle | C20: =184/192 -> 0.95833333
B22: Emission reduction due to Eco-Driving | C22: 0.2
B23: Eco Diving Adoption Rate | C23: 0.15
B24: Electric Vehicle Penetration | C24: =10% -> 0.1
B25: Initial Travel Demand | C25: 1
B28: Assumptions for ALIShA
B29: Inputs from Assumptions sheet. Do not Edit | C29: CNG emission Factor as a fraction of Gasoline | D29: ='Additional Measures'!C19 -> 0.72727273
C30: Electric Vehicle Emission factor per km per passenger as a fraction of gasoline vehicle | D30: ='Additional Measures'!C20 -> 0.95833333
C32: Emission reduction due to Eco-Driving | D32: ='Additional Measures'!C22 -> 0.2
C33: Eco Diving Adoption Rate | D33: ='Additional Measures'!C23 -> 0.15
C34: Electric Vehicle Penetration | D34: ='Additional Measures'!C24 -> 0.1
B35: Motorised Transport baseline shares by mode | C35: PV, IPT | D35: =(100%-D36) -> 0.84046484
C36: PT% | D36: ='CMP Data Input'!D14/100 -> 0.15953516
B37: Inputs from MCMP sheet. Do not Edit | C37: Initial Travel Demand | D37: =C25 -> 1
C38: Initial emissions (PT) | D38: ='CMP Add Measures(2030)'!$N$24 -> 111.82175
C39: Initial emissions (IPT) | D39: Included Below
C40: Initial emissions (PV+ IPT) | D40: ='CMP Add Measures(2030)'!$O$24 -> 101.76091
C41: Total Emissions | D41: =D40+D38 -> 213.58265
B42: Scenario simulations for ALIShA
B43: Load Factor enhancement | C43: Initial emissions | D43: =D41 -> 213.58265
C44: Initial emissions (PT) | D44: =D38 -> 111.82175
C45: Initial emissions (IPT) | D45: Included Below
C46: Initial emissions (PV, IPT) | D46: =D40 -> 101.76091
C47: Reduction potential 10% Shift | D47: ='Ld Fctr imprv'!$H$45 -> 0.038888889
C48: Emissions Reduction (PT) | D48: =D44*D47 -> 4.3486235
C49: Emissions Reduction (IPT) | D49: Included Below
...

Sheet CMP Add Measures(2030)
B2: Additional Measures Impact on CMP (MCMP - 2030)
B3: Vehicle Type | C3: Category | D3: Fuel Type | E3: Passenger Trips in CMP | F3: Passenger Trips in MCMP | G3: Average Trip Length in CMP | H3: Average trip length in MCMP | I3: Emissions at ideal mileage | J3: Impact of reduced network speed | K3: Emissions at network speed | L3: Emissions at ideal speed (tonnes) | M3: Emissions at present network speed(tonnes) | N3: Emissions at present network speed(tonnes)- PT | O3: Emissions at present network speed(tonnes)-PV, IPT
B4: 2W 2s / 4s | C4: PV / IPT | D4: petrol | E4: ='CMP Data Input'!G9*'BAU Assumptions'!G59 -> 96904 | F4: =E4*(1-'Additional Measures'!$C$6)*(1-'Additional Measures'!C11) -> 76311.9 | G4: ='CMP Data Input'!E21 -> 6 | H4: =G4*(1-'Additional Measures'!$C$7) -> 5.1428571 | I4: ='Emissions Factors'!J16 -> 12.687781 | J4: =(1-E35/100) -> 1.5776768 | K4: =I4*J4 -> 20.017219 | L4: =F4*G4*I4/1000000 -> 5.8093722 | M4: =F4*G4*K4/1000000 -> 9.1653119
B5: 3W 2s/4s | C5: PV / IPT | D5: Petrol | E5: ='CMP Data Input'!G11*'BAU Assumptions'!G60 -> 35841 | F5: =E5*(1-'Additional Measures'!$C$6)*(1-'Additional Measures'!C11) -> 28224.788 | G5: ='CMP Data Input'!E22 -> 9.5 | H5: =G5*(1-'Additional Measures'!$C$7) -> 8.1428571 | I5: ='Emissions Factors'!J17 -> 23.215974 | J5: =1-E36/100 -> 1.5776768 | K5: =I5*J5 -> 36.627304 | L5: =F5*G5*I5/1000000 -> 6.2250263 | M5: =F5*G5*K5/1000000 -> 9.8210798
B6: 3W 2s/4s | C6: PV / IPT | D6: CNG | E6: ='CMP Data Input'!G11*'BAU Assumptions'!G61 -> 0 | F6: =E6*(1-'Additional Measures'!$C$6)*(1-'Additional Measures'!C11) -> 0 | G6: ='CMP Data Input'!E22 -> 9.5 | H6: =G6*(1-'Additional Measures'!$C$7) -> 8.1428571 | I6: ='Emissions Factors'!J18 -> 24.442834 | J6: =J5 -> 1.5776768 | K6: =I6*J6 -> 38.562893 | L6: =F6*G6*I6/1000000 -> 0 | M6: =F6*G6*K6/1000000 -> 0
B7: 3W 2s/4s | C7: PV / IPT | D7: LPG | E7: ='CMP Data Input'!G11*'BAU Assumptions'!G62 -> 0 | F7: =E7*(1-'Additional Measures'!$C$6)*(1-'Additional Measures'!C11) -> 0 | G7: ='CMP Data Input'!E22 -> 9.5 | H7: =G7*(1-'Additional Measures'!$C$7) -> 8.1428571 | I7: ='Emissions Factors'!J19 -> 17.166608 | J7: =J6 -> 1.5776768 | K7: =I7*J7 -> 27.08336 | L7: =F7*G7*I7/1000000 -> 0 | M7: =F7*G7*K7/1000000 -> 0
B8: 3W Passenger Tempo | C8: PV / IPT | D8: Diesel | E8: ='CMP Data Input'!$D$11*'BAU Assumptions'!G63 -> 0 | F8: =E8*(1-'Additional Measures'!$C$6)*(1-'Additional Measures'!C11) -> 0 | G8: ='CMP Data Input'!E22 -> 9.5 | H8: =G8*(1-'Additional Measures'!$C$7) -> 8.1428571 | I8: ='Emissions Factors'!J20 -> 41.40182 | J8: =J7 -> 1.5776768 | K8: =I8*J8 -> 65.318692 | L8: =F8*G8*I8/1000000 -> 0 | M8: =F8*G8*K8/1000000 -> 0
B9: Car | C9: PV / IPT | D9: petrol | E9: ='CMP Data Input'!G10*'BAU Assumptions'!G64 -> 143763 | F9: =E9*(1-'Additional Measures'!$C$6)*(1-'Additional Measures'!C11) -> 113213.36 | G9: ='CMP Data Input'!$E$21 -> 6 | H9: =G9*(1-'Additional Measures'!$C$7) -> 5.1428571 | I9: ='Emissions Factors'!J21 -> 54.40654 | J9: =1-E37/100 -> 1.4927341 | K9: =I9*J9 -> 81.214496 | L9: =F9*G9*I9/1000000 -> 36.957284 | M9: =F9*G9*K9/1000000 -> 55.167397
B10: Car | C10: PV / IPT | D10: diesel | E10: ='CMP Data Input'!G10*'BAU Assumptions'!G65 -> 0 | F10: =E10*(1-'Additional Measures'!$C$6)*(1-'Additional Measures'!C11) -> 0 | G10: ='CMP Data Input'!$E$21 -> 6 | H10: =G10*(1-'Additional Measures'!$C$7) -> 5.1428571 | I10: ='Emissions Factors'!J22 -> 48.621422 | J10: =J9 -> 1.4927341 | K10: =I10*J10 -> 72.578852 | L10: =F10*G10*I10/1000000 -> 0 | M10: =F10*G10*K10/1000000 -> 0
B11: Car | C11: PV / IPT | D11: CNG | E11: ='CMP Data Input'!G10*'BAU Assumptions'!G66 -> 0 | F11: =E11*(1-'Additional Measures'!$C$6)*(1-'Additional Measures'!C11) -> 0 | G11: ='CMP Data Input'!$E$21 -> 6 | H11: =G11*(1-'Additional Measures'!$C$7) -> 5.1428571 | I11: ='Emissions Factors'!J23 -> 41.269697 | J11: =J10 -> 1.4927341 | K11: =I11*J11 -> 61.604682 | L11: =F11*G11*I11/1000000 -> 0 | M11: =F11*G11*K11/1000000 -> 0
B12: Taxi | C12: PV / IPT | D12: petrol | E12: ='CMP Data Input'!G12*'BAU Assumptions'!G67 -> 0 | F12: =E12*(1-'Additional Measures'!$C$6)*(1-'Additional Measures'!C11) -> 0 | G12: ='CMP Data Input'!$E$22 -> 9.5 | H12: =G12*(1-'Additional Measures'!$C$7) -> 8.1428571 | I12: ='Emissions Factors'!J24 -> 54.40654 | J12: =J11 -> 1.4927341 | K12: =I12*J12 -> 81.214496 | L12: =F12*G12*I12/1000000 -> 0 | M12: =F12*G12*K12/1000000 -> 0
B13: Taxi | C13: PV / IPT | D13: diesel | E13: ='CMP Data Input'!G12*'BAU Assumptions'!G68 -> 52826 | F13: =E13*(1-'Additional Measures'!$C$6)*(1-'Additional Measures'!C11) -> 41600.475 | G13: ='CMP Data Input'!$E$22 -> 9.5 | H13: =G13*(1-'Additional Measures'!$C$7) -> 8.1428571 | I13: ='Emissions Factors'!J25 -> 46.79686 | J13: =J12 -> 1.4927341 | K13: =I13*J13 -> 69.855267 | L13: =F13*G13*I13/1000000 -> 18.49433 | M13: =F13*G13*K13/1000000 -> 27.607117
B14: Taxi | C14: PV / IPT | D14: CNG | E14: ='CMP Data Input'!G12*'BAU Assumptions'!G69 -> 0 | F14: =E14*(1-'Additional Measures'!$C$6)*(1-'Additional Measures'!C11) -> 0 | G14: ='CMP Data Input'!$E$22 -> 9.5 | H14: =G14*(1-'Additional Measures'!$C$7) -> 8.1428571 | I14: ='Emissions Factors'!J26 -> 41.269697 | J14: =J13 -> 1.4927341 | K14: =I14*J14 -> 61.604682 | L14: =F14*G14*I14/1000000 -> 0 | M14: =F14*G14*K14/1000000 -> 0
B15: Taxi | C15: PV / IPT | D15: LPG | E15: ='CMP Data Input'!G12*'BAU Assumptions'!G70 -> 0 | F15: =E15*(1-'Additional Measures'!$C$6)*(1-'Additional Measures'!C11) -> 0 | G15: ='CMP Data Input'!$E$22 -> 9.5 | H15: =G15*(1-'Additional Measures'!$C$7) -> 8.1428571 | I15: ='Emissions Factors'!J27 -> 44.056872 | J15: =J14 -> 1.4927341 | K15: =I15*J15 -> 65.765193 | L15: =F15*G15*I15/1000000 -> 0 | M15: =F15*G15*K15/1000000 -> 0
B16: Mini Bus | C16: PT | D16: Diesel | E16: ='CMP Data Input'!G15*'BAU Assumptions'!G71 -> 0 | F16: =E16*(1-'Additional Measures'!$C$6)*(1+'Additional Measures'!C11) -> 0 | G16: ='CMP Data Input'!$E$23 -> 13 | H16: =G16*(1-'Additional Measures'!$C$7) -> 11.142857 | I16: ='Emissions Factors'!J28 -> 16.409258 | J16: =1-E38/100 -> 1.5665628 | K16: =I16*J16 -> 25.706133 | L16: =F16*G16*I16/1000000 -> 0 | M16: =F16*G16*K16/1000000 -> 0
B17: Bus | C17: PT | D17: Diesel | E17: ='CMP Data Input'!G15*'BAU Assumptions'!G72 -> 101333 | F17: =E17*(1-'Additional Measures'!$C$6)*(1+'Additional Measures'!C11) -> 97533.013 | G17: ='CMP Data Input'!$E$23 -> 13 | H17: =G17*(1-'Additional Measures'!$C$7) -> 11.142857 | I17: ='Emissions Factors'!J29 -> 11.222592 | J17: =J16 -> 1.5665628 | K17: =I17*J17 -> 17.580895 | L17: =F17*G17*I17/1000000 -> 14.229452 | M17: =F17*G17*K17/1000000 -> 22.29133
B18: Bus | C18: PT | D18: CNG | E18: ='CMP Data Input'!G15*'BAU Assumptions'!G73 -> 0 | F18: =E18*(1-'Additional Measures'!$C$6)*(1+'Additional Measures'!C11) -> 0 | G18: ='CMP Data Input'!$E$23 -> 13 | H18: =G18*(1-'Additional Measures'!$C$7) -> 11.142857 | I18: ='Emissions Factors'!J30 -> 14.65871 | J18: =J17 -> 1.5665628 | K18: =I18*J18 -> 22.96379 | L18: =F18*G18*I18/1000000 -> 0 | M18: =F18*G18*K18/1000000 -> 0
B19: BRTS | C19: PT | D19: Diesel | E19: ='CMP Data Input'!G18*'BAU Assumptions'!G74 -> 31666.562 | F19: =E19*(1-'Additional Measures'!$C$6)*(1+'Additional Measures'!C11) -> 30479.066 | G19: ='CMP Data Input'!$E$23 -> 13 | H19: =G19*(1-'Additional Measures'!$C$7) -> 11.142857 | I19: ='Emissions Factors'!J31 -> 11.222592 | J19: =J18 -> 1.5665628 | K19: =I19*J19 -> 17.580895 | L19: =F19*G19*I19/1000000 -> 4.4467036 | M19: =F19*G19*K19/1000000 -> 6.9660405
B20: BRTS | C20: PT | D20: CNG | E20: ='CMP Data Input'!G18*'BAU Assumptions'!G75 -> 0 | F20: =E20*(1-'Additional Measures'!$C$6)*(1+'Additional Measures'!C11) -> 0 | G20: ='CMP Data Input'!$E$23 -> 13 | H20: =G20*(1-'Additional Measures'!$C$7) -> 11.142857 | I20: ='Emissions Factors'!J32 -> 14.65871 | J20: =J19 -> 1.5665628 | K20: =I20*J20 -> 22.96379 | L20: =F20*G20*I20/1000000 -> 0 | M20: =F20*G20*K20/1000000 -> 0
B21: MRTS | C21: PT | D21: Electricity | E21: ='CMP Data Input'!G19*'BAU Assumptions'!G76 -> 101333 | F21: =E21*(1-'Additional Measures'!$C$6)*(1+'Additional Measures'!C11) -> 97533.012 | G21: ='CMP Data Input'!$E$23 -> 13 | H21: =G21*(1-'Additional Measures'!$C$7) -> 11.142857 | I21: ='Emissions Factors'!G33 -> 53.68 | J21: 1 | K21: =I21*J21 -> 53.68 | L21: =F21*G21*I21/1000000 -> 68.062437 | M21: =F21*G21*K21/1000000 -> 68.062437
B22: Monorail | C22: PT | D22: Electricity | E22: ='CMP Data Input'!G17*'BAU Assumptions'!G77 -> 18999.938 | F22: =E22*(1-'Additional Measures'!$C$6)*(1+'Additional Measures'!C11) -> 18287.44 | G22: ='CMP Data Input'!$E$23 -> 13 | H22: =G22*(1-'Additional Measures'!$C$7) -> 11.142857 | I22: ='Emissions Factors'!G34 -> 61 | J22: 1 | K22: =I22*J22 -> 61 | L22: =F22*G22*I22/1000000 -> 14.50194 | M22: =F22*G22*K22/1000000 -> 14.50194
B23: Total Trips | E23: =SUM(E4:E22) -> 582666.5 | F23: =SUM(F4:F22) -> 503183.06
B24: Peak Hour Total Emissions | L24: =SUM(L4:L20) -> 86.162168 | M24: =SUM(M4:M21) -> 199.08071 | N24: =SUM(M16:M22) -> 111.82175 | O24: =SUM(M4:M15) -> 101.76091
B25: Total CO2 emissions per day | L25: =L24/'CMP Data Input'!N37 -> 1296.2704 | M25: =M24/'CMP Data Input'!N37 -> 2995.0783 | N25: =N24/'CMP Data Input'!N37 -> 1682.307 | O25: =O24/'CMP Data Input'!N37 -> 1530.9463
B26: Total Emissions per year | L26: =L25*365 -> 473138.7 | M26: =M25*365 -> 1093203.6 | N26: =N25*365 -> 614042.07 | O26: =O25*365 -> 558795.39
B30: Network Speed Impact
B31: ='CMP Data Input'!B24 -> Average Network Speed | E31: ='Induced Demand'!F10 -> 17.777778
B32: Lower category speed no | E32: =ROUNDDOWN(E31/5,0)*5 -> 15
B33: Higher category speed no | E33: =E32+5 -> 20
B34: Vehicle Category | C34: Lower Category | D34: Higher Category | E34: At network speed
B35: 2W | C35: =VLOOKUP($E$32, speed_emission_rel, 2, FALSE) -> -69.521663 | D35: =VLOOKUP($E33, speed_emission_rel, 2, FALSE) -> -43.075207 | E35: =C35+(D35-C35)/5*($E$33-$E$31) -> -57.767683
B36: 3W | C36: =VLOOKUP($E$32, speed_emission_rel, 3, FALSE) -> -69.521663 | D36: =VLOOKUP($E33, speed_emission_rel, 3, FALSE) -> -43.075207 | E36: =C36+(D36-C36)/5*($E$33-$E$31) -> -57.767683
B37: Cars / Taxis | C37: =VLOOKUP($E$32, speed_emission_rel, 4, FALSE) -> -61.190883 | D37: =VLOOKUP($E33, speed_emission_rel, 4, FALSE) -> -34.37656 | E37: =C37+(D37-C37)/5*($E$33-$E$31) -> -49.273406
B38: Bus | C38: =VLOOKUP($E$32, speed_emission_rel, 6, FALSE) -> -61.190883 | D38: =VLOOKUP($E$33, speed_emission_rel, 6, FALSE) -> -50.988027 | E38: =C38+(D38-C38)/5*($E$33-$E$31) -> -56.65628

Sheet Construction Emissions
B2: Construction Related Emissions
B3: Base Year | C3: 2010
B4: Activity | C4: 2010-2016 | D4: 2016-2021 | E4: 2021-2031 | F4: Total KM | G4: Emissions Factor per KM (Tonnes) | H4: 2016 | I4: 2021 | J4: 2031 | K4: Total Emissions (Tonnes) | L4: Service Life in Years | M4: Per Year Emissions
B5: BRTS | C5: ='CMP Data Input'!E31 -> 93 | D5: ='CMP Data Input'!F31 -> 65 | E5: ='CMP Data Input'!G31 -> 7 | F5: =SUM(C5:E5) -> 165 | G5: ='BAU Assumptions'!E27 -> 1900 | H5: =C5*$G5 -> 176700 | I5: =D5*$G5 -> 123500 | J5: =E5*$G5 -> 13300 | K5: =SUM(H5:J5) -> 313500 | L5: ='BAU Assumptions'!D13 -> 20 | M5: =K5/L5 -> 15675
B6: MRTS | C6: ='CMP Data Input'!E32 -> 29 | D6: ='CMP Data Input'!F32 -> 15 | E6: ='CMP Data Input'!G32 -> 16 | F6: =SUM(C6:E6) -> 60 | G6: ='BAU Assumptions'!E29 -> 15600 | H6: =C6*$G6 -> 452400 | I6: =D6*$G6 -> 234000 | J6: =E6*$G6 -> 249600 | K6: =SUM(H6:J6) -> 936000 | L6: ='BAU Assumptions'!D14 -> 20 | M6: =K6/L6 -> 46800
B7: NMT - Bicycle Lanes | C7: ='CMP Data Input'!E34 -> 0 | D7: ='CMP Data Input'!F34 -> 80 | E7: ='CMP Data Input'!G34 -> 80 | F7: =SUM(C7:E7) -> 160 | G7: ='BAU Assumptions'!E28 -> 20 | H7: =C7*$G7 -> 0 | I7: =D7*$G7 -> 1600 | J7: =E7*$G7 -> 1600 | K7: =SUM(H7:J7) -> 3200 | L7: ='BAU Assumptions'!D15 -> 20 | M7: =K7/L7 -> 160
B8: Ring Road | C8: ='CMP Data Input'!E40 -> 50 | D8: ='CMP Data Input'!F40 -> 50 | E8: ='CMP Data Input'!G40 -> 44 | F8: =SUM(C8:E8) -> 144 | G8: ='BAU Assumptions'!E31 -> 2100 | H8: =C8*$G8 -> 105000 | I8: =D8*$G8 -> 105000 | J8: =E8*$G8 -> 92400 | K8: =SUM(H8:J8) -> 302400 | L8: ='BAU Assumptions'!D16 -> 20 | M8: =K8/L8 -> 15120
B9: NMT Facilities - Walkable Footpath | C9: ='CMP Data Input'!E41 -> 200 | D9: ='CMP Data Input'!F41 -> 0 | E9: ='CMP Data Input'!G41 -> 0 | F9: =SUM(C9:E9) -> 200 | G9: ='BAU Assumptions'!E28 -> 20 | H9: =C9*$G9 -> 4000 | I9: =D9*$G9 -> 0 | J9: =E9*$G9 -> 0 | K9: =SUM(H9:J9) -> 4000 | L9: ='BAU Assumptions'!D17 -> 20 | M9: =K9/L9 -> 200
B10: Road Widening | C10: ='CMP Data Input'!E42 -> 100 | D10: ='CMP Data Input'!F42 -> 100 | E10: ='CMP Data Input'!G42 -> 30 | F10: =SUM(C10:E10) -> 230 | G10: ='BAU Assumptions'!E32 -> 1100 | H10: =C10*$G10 -> 110000 | I10: =D10*$G10 -> 110000 | J10: =E10*$G10 -> 33000 | K10: =SUM(H10:J10) -> 253000 | L10: ='BAU Assumptions'!D18 -> 20 | M10: =K10/L10 -> 12650
